BEGIN:VCALENDAR
VERSION:2.0
PRODID:Ville de Fribourg
BEGIN:VEVENT
UID:6152a91f0ab13
DTSTART;VALUE=DATE:20210929
SEQUENCE:0
TRANSP:OPAQUE
DTEND;VALUE=DATE:20210930
SUMMARY:SEPTIK - Atelier d'initiation au clown 
CLASS:PUBLIC
DESCRIPTION:15:00 – 16:30.… - https://www.ville-fribourg.ch/de/agenda/s
 eptik-atelier-dinitiation-au-clown
X-MICROSOFT-CDO-ALLDAYEVENT:TRUE
DTSTAMP:20210928T053319Z
END:VEVENT
BEGIN:VEVENT
UID:6152a91f0d468
DTSTART;VALUE=DATE:20211001
SEQUENCE:0
TRANSP:OPAQUE
DTEND;VALUE=DATE:20211002
SUMMARY:Atelier d'expression queer à Textures
CLASS:PUBLIC
DESCRIPTION:de 14:00 à 16:00.… - https://www.ville-fribourg.ch/de/agenda
 /atelier-dexpression-queer-a-textures
X-MICROSOFT-CDO-ALLDAYEVENT:TRUE
DTSTAMP:20210928T053319Z
END:VEVENT
BEGIN:VEVENT
UID:6152a91f0dca6
DTSTART;VALUE=DATE:20211001
SEQUENCE:0
TRANSP:OPAQUE
DTEND;VALUE=DATE:20211002
SUMMARY:Encore des Histoires! Jura-Torry-Miséricorde
CLASS:PUBLIC
DESCRIPTION:Le bibliothèque de rue plurilingue arrive dans le quartier de 
 JTM.… - https://www.ville-fribourg.ch/de/agenda/encore-des-histoires-jur
 a-torry-misericorde
X-MICROSOFT-CDO-ALLDAYEVENT:TRUE
DTSTAMP:20210928T053319Z
END:VEVENT
BEGIN:VEVENT
UID:6152a91f0ed5b
DTSTART;VALUE=DATE:20211002
SEQUENCE:0
TRANSP:OPAQUE
DTEND;VALUE=DATE:20211003
SUMMARY:Limonade littéraire à Textures
CLASS:PUBLIC
DESCRIPTION:10:00 – 10:45.… - https://www.ville-fribourg.ch/de/agenda/l
 imonade-litteraire-a-textures
X-MICROSOFT-CDO-ALLDAYEVENT:TRUE
DTSTAMP:20210928T053319Z
END:VEVENT
BEGIN:VEVENT
UID:6152a91f0f580
DTSTART;VALUE=DATE:20211002
SEQUENCE:0
TRANSP:OPAQUE
DTEND;VALUE=DATE:20211003
SUMMARY:Atelier d'écriture avec Tatjana Erard et Olivier Pitteloud à Text
 ures
CLASS:PUBLIC
DESCRIPTION:13:00 – 15:00. Lieu : Arsen’alt\, Derrière-les-Remparts 12
 \, 1700 Fribourg.… - https://www.ville-fribourg.ch/de/agenda/atelier-dec
 riture-avec-tatjana-erard-et-olivier-pitteloud-a-textures
X-MICROSOFT-CDO-ALLDAYEVENT:TRUE
DTSTAMP:20210928T053319Z
END:VEVENT
BEGIN:VEVENT
UID:6152a91f0fd2c
DTSTART;VALUE=DATE:20211004
SEQUENCE:0
TRANSP:OPAQUE
DTEND;VALUE=DATE:20211005
SUMMARY:Encore! Des histoires! au Schoenberg
CLASS:PUBLIC
DESCRIPTION:Bibliothèque de rue plurilingue: les enfants et les adultes pe
 uvent écouter des histoires\, en raconter\, chanter\, danser\, faire du t
 héâtre et… - https://www.ville-fribourg.ch/de/agenda/encore-des-histoi
 res-au-schoenberg
X-MICROSOFT-CDO-ALLDAYEVENT:TRUE
DTSTAMP:20210928T053319Z
END:VEVENT
BEGIN:VEVENT
UID:6152a91f1043d
DTSTART;VALUE=DATE:20211006
SEQUENCE:0
TRANSP:OPAQUE
DTEND;VALUE=DATE:20211007
SUMMARY:Vernissage de l’exposition des bandes dessinées «Un monde sans 
 sexisme» et atelier «Courage Civil»
CLASS:PUBLIC
DESCRIPTION:À MEMO.… - https://www.ville-fribourg.ch/de/agenda/vernissag
 e-de-lexposition-des-bandes-dessinees-un-monde-sans-sexisme-et-atelier-cou
 rage
X-MICROSOFT-CDO-ALLDAYEVENT:TRUE
DTSTAMP:20210928T053319Z
END:VEVENT
BEGIN:VEVENT
UID:6152a91f10ce2
DTSTART;VALUE=DATE:20211008
SEQUENCE:0
TRANSP:OPAQUE
DTEND;VALUE=DATE:20211009
SUMMARY:Ateliers d'éveil 
CLASS:PUBLIC
DESCRIPTION:Vendredi 8 octobre et vendredi 5 novembre : éveil à la langue
  des signes française (LSF)  - 9:30 – 10:30.… - https://www.ville-fr
 ibourg.ch/de/agenda/ateliers-deveil
X-MICROSOFT-CDO-ALLDAYEVENT:TRUE
DTSTAMP:20210928T053319Z
END:VEVENT
BEGIN:VEVENT
UID:6152a91f11498
DTSTART;VALUE=DATE:20211009
SEQUENCE:0
TRANSP:OPAQUE
DTEND;VALUE=DATE:20211010
SUMMARY:Contes musicaux de Caroline Demuth 
CLASS:PUBLIC
DESCRIPTION:10 :00 – 11 :30 dès 4 ans.… - https://www.ville-fribourg
 .ch/de/agenda/contes-musicaux-de-caroline-demuth
X-MICROSOFT-CDO-ALLDAYEVENT:TRUE
DTSTAMP:20210928T053319Z
END:VEVENT
BEGIN:VEVENT
UID:6152a91f11cb0
DTSTART;VALUE=DATE:20211011
SEQUENCE:0
TRANSP:OPAQUE
DTEND;VALUE=DATE:20211012
SUMMARY:Séance du 11.10.2021- Conseil général  
CLASS:PUBLIC
DESCRIPTION:Le Bureau du Conseil général de la Ville de Fribourg a convoq
 ué les membres du Conseil général\, par courrier individuel du 24 septe
 mbre 2021… - https://www.ville-fribourg.ch/de/agenda/sitzung-vom-11-10-2
 021-generalrat-0
X-MICROSOFT-CDO-ALLDAYEVENT:TRUE
DTSTAMP:20210928T053319Z
END:VEVENT
BEGIN:VEVENT
UID:6152a91f1245f
DTSTART;VALUE=DATE:20211011
SEQUENCE:0
TRANSP:OPAQUE
DTEND;VALUE=DATE:20211012
SUMMARY:Sitzung vom 11.10.2021 - Generalrat   
CLASS:PUBLIC
DESCRIPTION:Das Büro des Generalrates der Stadt Freiburg wird die Mitglied
 er des Generalrates mit persönlichem Schreiben  zur ordentlichen Sitzung
  vom M… - https://www.ville-fribourg.ch/de/agenda/sitzung-vom-11-10-2021
 -generalrat
X-MICROSOFT-CDO-ALLDAYEVENT:TRUE
DTSTAMP:20210928T053319Z
END:VEVENT
BEGIN:VEVENT
UID:6152a91f12a98
DTSTART;VALUE=DATE:20211015
SEQUENCE:0
TRANSP:OPAQUE
DTEND;VALUE=DATE:20211016
SUMMARY:Né pour lire / Buchstart
CLASS:PUBLIC
DESCRIPTION:- Vendredi 15 octobre\, jeudi 18 novembre\, vendredi 28 janvier
 \, 9:30 - 11:00 - Mardi 7 décembre\, mardi 22 février\, 15:30 - 17:00  
 -  - À ME… - https://www.ville-fribourg.ch/de/agenda/ne-pour-lire-buch
 start-0
X-MICROSOFT-CDO-ALLDAYEVENT:TRUE
DTSTAMP:20210928T053319Z
END:VEVENT
BEGIN:VEVENT
UID:6152a91f1398d
DTSTART;VALUE=DATE:20210922
SEQUENCE:0
TRANSP:OPAQUE
DTEND;VALUE=DATE:20211020
SUMMARY:Memento du 22 septembre au 19 octobre 
CLASS:PUBLIC
DESCRIPTION:CONCERTS - Plamena Nikitassova - violon\, sa 3 octobtre\, 17h\,
  église des Capucins.… - https://www.ville-fribourg.ch/de/agenda/mement
 o-du-22-septembre-au-19-octobre
X-MICROSOFT-CDO-ALLDAYEVENT:TRUE
DTSTAMP:20210928T053319Z
END:VEVENT
BEGIN:VEVENT
UID:6152a91f15159
DTSTART;VALUE=DATE:20211027
SEQUENCE:0
TRANSP:OPAQUE
DTEND;VALUE=DATE:20211028
SUMMARY:Clap\, boum\, tchak ! Atelier de Bodypercussion
CLASS:PUBLIC
DESCRIPTION:15:00 - 16:30\, à MEMO.… - https://www.ville-fribourg.ch/de/
 agenda/clap-boum-tchak-atelier-de-bodypercussion
X-MICROSOFT-CDO-ALLDAYEVENT:TRUE
DTSTAMP:20210928T053319Z
END:VEVENT
BEGIN:VEVENT
UID:6152a91f15a96
DTSTART;VALUE=DATE:20211029
SEQUENCE:0
TRANSP:OPAQUE
DTEND;VALUE=DATE:20211030
SUMMARY:Contes de Caroline
CLASS:PUBLIC
DESCRIPTION:16:30 – 17:15. À MEMO. Dès 4 ans.… - https://www.ville-fr
 ibourg.ch/de/agenda/contes-de-caroline-0
X-MICROSOFT-CDO-ALLDAYEVENT:TRUE
DTSTAMP:20210928T053319Z
END:VEVENT
BEGIN:VEVENT
UID:6152a91f1615f
DTSTART;VALUE=DATE:20211030
SEQUENCE:0
TRANSP:OPAQUE
DTEND;VALUE=DATE:20211031
SUMMARY:50 ans de suffrage féminin ! 50 Jahre Frauenstimmrecht!
CLASS:PUBLIC
DESCRIPTION:9:00 - 13:00. A MEMO et hors les murs\, pour toute la famille.
 … - https://www.ville-fribourg.ch/de/agenda/50-ans-de-suffrage-feminin-5
 0-jahre-frauenstimmrecht
X-MICROSOFT-CDO-ALLDAYEVENT:TRUE
DTSTAMP:20210928T053319Z
END:VEVENT
BEGIN:VEVENT
UID:6152a91f16848
DTSTART;VALUE=DATE:20200910
SEQUENCE:0
TRANSP:OPAQUE
DTEND;VALUE=DATE:20211101
SUMMARY:Trésor végétal - Botanischer Schatz
CLASS:PUBLIC
DESCRIPTION:Exposition auhttps://www3.unifr.ch/jardin-botanique/fr/manifest
 ations/expositions/\"&…\; Jardin botanique - «Trésor végétal: commen
 t sauvegard… - https://www.ville-fribourg.ch/de/agenda/tresor-vegetal-bo
 tanischer-schatz
X-MICROSOFT-CDO-ALLDAYEVENT:TRUE
DTSTAMP:20210928T053319Z
END:VEVENT
BEGIN:VEVENT
UID:6152a91f16fb8
DTSTART;VALUE=DATE:20211103
SEQUENCE:0
TRANSP:OPAQUE
DTEND;VALUE=DATE:20211104
SUMMARY:Contes en deux langues et marionnettes
CLASS:PUBLIC
DESCRIPTION:15:00 - 16:00. Au https://www.marionnette.ch/\">Musée suisse d
 e la Marionnette.… - https://www.ville-fribourg.ch/de/agenda/contes-en-d
 eux-langues-et-marionnettes
X-MICROSOFT-CDO-ALLDAYEVENT:TRUE
DTSTAMP:20210928T053319Z
END:VEVENT
BEGIN:VEVENT
UID:6152a91f17740
DTSTART;VALUE=DATE:20211105
SEQUENCE:0
TRANSP:OPAQUE
DTEND;VALUE=DATE:20211106
SUMMARY:Ateliers d'éveil 
CLASS:PUBLIC
DESCRIPTION:Vendredi 8 octobre et vendredi 5 novembre : éveil à la langue
  des signes française (LSF)  - 9:30 – 10:30.… - https://www.ville-fr
 ibourg.ch/de/agenda/ateliers-deveil
X-MICROSOFT-CDO-ALLDAYEVENT:TRUE
DTSTAMP:20210928T053319Z
END:VEVENT
BEGIN:VEVENT
UID:6152a91f17c63
DTSTART;VALUE=DATE:20211106
SEQUENCE:0
TRANSP:OPAQUE
DTEND;VALUE=DATE:20211108
SUMMARY:BDMania à MEMO / in MEMO
CLASS:PUBLIC
DESCRIPTION:Samedi 9 :00 – 18 :00 et dimanche 11 :00 – 16 :00. À M
 EMO.… - https://www.ville-fribourg.ch/de/agenda/bdmania-a-memo-in-memo
X-MICROSOFT-CDO-ALLDAYEVENT:TRUE
DTSTAMP:20210928T053319Z
END:VEVENT
BEGIN:VEVENT
UID:6152a91f182e2
DTSTART;VALUE=DATE:20211108
SEQUENCE:0
TRANSP:OPAQUE
DTEND;VALUE=DATE:20211109
SUMMARY:Cafés (grand-) parents-enfants / Kaffee (Gross-) Eltern - Kinder 
CLASS:PUBLIC
DESCRIPTION:15:30 – 17:00. À MEMO.… - https://www.ville-fribourg.ch/de
 /agenda/cafes-grand-parents-enfants-kaffee-gross-eltern-kinder
X-MICROSOFT-CDO-ALLDAYEVENT:TRUE
DTSTAMP:20210928T053319Z
END:VEVENT
BEGIN:VEVENT
UID:6152a91f18a26
DTSTART;VALUE=DATE:20211110
SEQUENCE:0
TRANSP:OPAQUE
DTEND;VALUE=DATE:20211111
SUMMARY:Les Deux Frères – contes bilingues
CLASS:PUBLIC
DESCRIPTION:15:00 – 16:00. À MEMO.… - https://www.ville-fribourg.ch/de
 /agenda/les-deux-freres-contes-bilingues
X-MICROSOFT-CDO-ALLDAYEVENT:TRUE
DTSTAMP:20210928T053319Z
END:VEVENT
BEGIN:VEVENT
UID:6152a91f19113
DTSTART;VALUE=DATE:20211112
SEQUENCE:0
TRANSP:OPAQUE
DTEND;VALUE=DATE:20211113
SUMMARY:Nuit du conte - Erzählnacht
CLASS:PUBLIC
DESCRIPTION:16:00 – 20:00. À MEMO\, pour toute la famille.… - https://
 www.ville-fribourg.ch/de/agenda/nuit-du-conte-erzahlnacht
X-MICROSOFT-CDO-ALLDAYEVENT:TRUE
DTSTAMP:20210928T053319Z
END:VEVENT
BEGIN:VEVENT
UID:6152a91f19881
DTSTART;VALUE=DATE:20211117
SEQUENCE:0
TRANSP:OPAQUE
DTEND;VALUE=DATE:20211118
SUMMARY:Herbstneuheiten
CLASS:PUBLIC
DESCRIPTION:18:30 – 19:30 Uhr. In MEMO.  - Das Team der Buchhandlung Lüt
 hy Kanisiusbuchhandlung stellt Herbstneuheiten für Erwachsene vor.… - h
 ttps://www.ville-fribourg.ch/de/agenda/herbstneuheiten
X-MICROSOFT-CDO-ALLDAYEVENT:TRUE
DTSTAMP:20210928T053319Z
END:VEVENT
BEGIN:VEVENT
UID:6152a91f19ee0
DTSTART;VALUE=DATE:20211118
SEQUENCE:0
TRANSP:OPAQUE
DTEND;VALUE=DATE:20211119
SUMMARY:Né pour lire / Buchstart
CLASS:PUBLIC
DESCRIPTION:- Vendredi 15 octobre\, jeudi 18 novembre\, vendredi 28 janvier
 \, 9:30 - 11:00 - Mardi 7 décembre\, mardi 22 février\, 15:30 - 17:00  
 -  - À ME… - https://www.ville-fribourg.ch/de/agenda/ne-pour-lire-buch
 start-0
X-MICROSOFT-CDO-ALLDAYEVENT:TRUE
DTSTAMP:20210928T053319Z
END:VEVENT
BEGIN:VEVENT
UID:6152a91f1a704
DTSTART;VALUE=DATE:20211124
SEQUENCE:0
TRANSP:OPAQUE
DTEND;VALUE=DATE:20211125
SUMMARY:Massues\, balles et diabolo – initiation au jonglage / Einführun
 g in das Jonglieren
CLASS:PUBLIC
DESCRIPTION:15:00 – 16:00.… - https://www.ville-fribourg.ch/de/agenda/m
 assues-balles-et-diabolo-initiation-au-jonglage-einfuhrung-in-das-jonglier
 en
X-MICROSOFT-CDO-ALLDAYEVENT:TRUE
DTSTAMP:20210928T053319Z
END:VEVENT
BEGIN:VEVENT
UID:6152a91f1ae5e
DTSTART;VALUE=DATE:20211127
SEQUENCE:0
TRANSP:OPAQUE
DTEND;VALUE=DATE:20211128
SUMMARY:Contes musicaux de Caroline Demuth 
CLASS:PUBLIC
DESCRIPTION:10 :00 – 11 :30 dès 4 ans.… - https://www.ville-fribourg
 .ch/de/agenda/contes-musicaux-de-caroline-demuth
X-MICROSOFT-CDO-ALLDAYEVENT:TRUE
DTSTAMP:20210928T053319Z
END:VEVENT
BEGIN:VEVENT
UID:6152a91f1b36f
DTSTART;VALUE=DATE:20211201
SEQUENCE:0
TRANSP:OPAQUE
DTEND;VALUE=DATE:20211202
SUMMARY:Dimanche – atelier d’écriture
CLASS:PUBLIC
DESCRIPTION:15:00 – 16:30. À MEMO.… - https://www.ville-fribourg.ch/de
 /agenda/dimanche-atelier-decriture
X-MICROSOFT-CDO-ALLDAYEVENT:TRUE
DTSTAMP:20210928T053319Z
END:VEVENT
BEGIN:VEVENT
UID:6152a91f1ba0e
DTSTART;VALUE=DATE:20211202
SEQUENCE:0
TRANSP:OPAQUE
DTEND;VALUE=DATE:20211203
SUMMARY:Jive & rock'n'roll pour adultes / für Erwachsene
CLASS:PUBLIC
DESCRIPTION:Initiation au Jive et au rock acrobatique - 18:00 – 19:30. À
  MEMO.… - https://www.ville-fribourg.ch/de/agenda/jive-rocknroll-pour-ad
 ultes-fur-erwachsene
X-MICROSOFT-CDO-ALLDAYEVENT:TRUE
DTSTAMP:20210928T053319Z
END:VEVENT
BEGIN:VEVENT
UID:6152a91f1c138
DTSTART;VALUE=DATE:20211203
SEQUENCE:0
TRANSP:OPAQUE
DTEND;VALUE=DATE:20211204
SUMMARY:Ateliers d'éveil 
CLASS:PUBLIC
DESCRIPTION:Vendredi 8 octobre et vendredi 5 novembre : éveil à la langue
  des signes française (LSF)  - 9:30 – 10:30.… - https://www.ville-fr
 ibourg.ch/de/agenda/ateliers-deveil
X-MICROSOFT-CDO-ALLDAYEVENT:TRUE
DTSTAMP:20210928T053319Z
END:VEVENT
BEGIN:VEVENT
UID:6152a91f1c68d
DTSTART;VALUE=DATE:20211203
SEQUENCE:0
TRANSP:OPAQUE
DTEND;VALUE=DATE:20211206
SUMMARY:Sankt Nikolaus-Fest
CLASS:PUBLIC
DESCRIPTION:Nach einer Ausgabe 2020\, die an die damalige gesundheitliche L
 age angepasst war\, freut sich das Organisationskomitee https://www.st-nic
 olas.… - https://www.ville-fribourg.ch/de/agenda/sankt-nikolaus-fest
X-MICROSOFT-CDO-ALLDAYEVENT:TRUE
DTSTAMP:20210928T053319Z
END:VEVENT
BEGIN:VEVENT
UID:6152a91f1ccf4
DTSTART;VALUE=DATE:20211206
SEQUENCE:0
TRANSP:OPAQUE
DTEND;VALUE=DATE:20211207
SUMMARY:Cafés (grand-) parents-enfants / Kaffee (Gross-) Eltern - Kinder 
CLASS:PUBLIC
DESCRIPTION:15:30 – 17:00. À MEMO.… - https://www.ville-fribourg.ch/de
 /agenda/cafes-grand-parents-enfants-kaffee-gross-eltern-kinder
X-MICROSOFT-CDO-ALLDAYEVENT:TRUE
DTSTAMP:20210928T053319Z
END:VEVENT
BEGIN:VEVENT
UID:6152a91f1d143
DTSTART;VALUE=DATE:20211207
SEQUENCE:0
TRANSP:OPAQUE
DTEND;VALUE=DATE:20211208
SUMMARY:Né pour lire / Buchstart
CLASS:PUBLIC
DESCRIPTION:- Vendredi 15 octobre\, jeudi 18 novembre\, vendredi 28 janvier
 \, 9:30 - 11:00 - Mardi 7 décembre\, mardi 22 février\, 15:30 - 17:00  
 -  - À ME… - https://www.ville-fribourg.ch/de/agenda/ne-pour-lire-buch
 start-0
X-MICROSOFT-CDO-ALLDAYEVENT:TRUE
DTSTAMP:20210928T053319Z
END:VEVENT
BEGIN:VEVENT
UID:6152a91f1d956
DTSTART;VALUE=DATE:20211210
SEQUENCE:0
TRANSP:OPAQUE
DTEND;VALUE=DATE:20211211
SUMMARY:Contes de Caroline
CLASS:PUBLIC
DESCRIPTION:16:30 – 17:15. À MEMO. Dès 4 ans.… - https://www.ville-fr
 ibourg.ch/de/agenda/contes-de-caroline-0
X-MICROSOFT-CDO-ALLDAYEVENT:TRUE
DTSTAMP:20210928T053319Z
END:VEVENT
BEGIN:VEVENT
UID:6152a91f1dd88
DTSTART;VALUE=DATE:20211213
SEQUENCE:0
TRANSP:OPAQUE
DTEND;VALUE=DATE:20211214
SUMMARY:Sitzung vom 13.12.2021 - Generalrat   
CLASS:PUBLIC
DESCRIPTION:Das Büro des Generalrates der Stadt Freiburg wird die Mitglied
 er des Generalrates mit persönlichem Schreiben  zur ordentlichen Sitzung
  vom M… - https://www.ville-fribourg.ch/de/agenda/sitzung-vom-13-12-2021
 -generalrat
X-MICROSOFT-CDO-ALLDAYEVENT:TRUE
DTSTAMP:20210928T053319Z
END:VEVENT
BEGIN:VEVENT
UID:6152a91f1e3d3
DTSTART;VALUE=DATE:20211013
SEQUENCE:0
TRANSP:OPAQUE
DTEND;VALUE=DATE:20211216
SUMMARY:Märchen von Contemuse
CLASS:PUBLIC
DESCRIPTION:14:00 – 14:30. In MEMO\, ab 4 Jahren.… - https://www.ville-
 fribourg.ch/de/agenda/marchen-von-contemuse
X-MICROSOFT-CDO-ALLDAYEVENT:TRUE
DTSTAMP:20210928T053319Z
END:VEVENT
BEGIN:VEVENT
UID:6152a91f1eb90
DTSTART;VALUE=DATE:20211013
SEQUENCE:0
TRANSP:OPAQUE
DTEND;VALUE=DATE:20211216
SUMMARY:Märchen von Contemuse
CLASS:PUBLIC
DESCRIPTION:14:00 – 14:30. In MEMO\, ab 4 Jahren.… - https://www.ville-
 fribourg.ch/de/agenda/marchen-von-contemuse
X-MICROSOFT-CDO-ALLDAYEVENT:TRUE
DTSTAMP:20210928T053319Z
END:VEVENT
BEGIN:VEVENT
UID:6152a91f1f6cd
DTSTART;VALUE=DATE:20220114
SEQUENCE:0
TRANSP:OPAQUE
DTEND;VALUE=DATE:20220115
SUMMARY:Et hop\, ça swingue sur la piste ! Initiation au Lindy Hop
CLASS:PUBLIC
DESCRIPTION:18:00 – 19:00. À MEMO.… - https://www.ville-fribourg.ch/de
 /agenda/et-hop-ca-swingue-sur-la-piste-initiation-au-lindy-hop
X-MICROSOFT-CDO-ALLDAYEVENT:TRUE
DTSTAMP:20210928T053319Z
END:VEVENT
BEGIN:VEVENT
UID:6152a91f2070f
DTSTART;VALUE=DATE:20220114
SEQUENCE:0
TRANSP:OPAQUE
DTEND;VALUE=DATE:20220115
SUMMARY:Ateliers d'éveil 
CLASS:PUBLIC
DESCRIPTION:Vendredi 8 octobre et vendredi 5 novembre : éveil à la langue
  des signes française (LSF)  - 9:30 – 10:30.… - https://www.ville-fr
 ibourg.ch/de/agenda/ateliers-deveil
X-MICROSOFT-CDO-ALLDAYEVENT:TRUE
DTSTAMP:20210928T053319Z
END:VEVENT
BEGIN:VEVENT
UID:6152a91f20c33
DTSTART;VALUE=DATE:20220117
SEQUENCE:0
TRANSP:OPAQUE
DTEND;VALUE=DATE:20220118
SUMMARY:Cafés (grand-) parents-enfants / Kaffee (Gross-) Eltern - Kinder 
CLASS:PUBLIC
DESCRIPTION:15:30 – 17:00. À MEMO.… - https://www.ville-fribourg.ch/de
 /agenda/cafes-grand-parents-enfants-kaffee-gross-eltern-kinder
X-MICROSOFT-CDO-ALLDAYEVENT:TRUE
DTSTAMP:20210928T053319Z
END:VEVENT
BEGIN:VEVENT
UID:6152a91f21078
DTSTART;VALUE=DATE:20220119
SEQUENCE:0
TRANSP:OPAQUE
DTEND;VALUE=DATE:20220120
SUMMARY:Frau Holle – Märchen auf Dialekt
CLASS:PUBLIC
DESCRIPTION:Mittwoch\, 19. Januar\, 15:00 – 16:00 Uhr. In MEMO.… - http
 s://www.ville-fribourg.ch/de/agenda/frau-holle-marchen-auf-dialekt
X-MICROSOFT-CDO-ALLDAYEVENT:TRUE
DTSTAMP:20210928T053319Z
END:VEVENT
BEGIN:VEVENT
UID:6152a91f2172f
DTSTART;VALUE=DATE:20220128
SEQUENCE:0
TRANSP:OPAQUE
DTEND;VALUE=DATE:20220129
SUMMARY:Né pour lire / Buchstart
CLASS:PUBLIC
DESCRIPTION:- Vendredi 15 octobre\, jeudi 18 novembre\, vendredi 28 janvier
 \, 9:30 - 11:00 - Mardi 7 décembre\, mardi 22 février\, 15:30 - 17:00  
 -  - À ME… - https://www.ville-fribourg.ch/de/agenda/ne-pour-lire-buch
 start-0
X-MICROSOFT-CDO-ALLDAYEVENT:TRUE
DTSTAMP:20210928T053319Z
END:VEVENT
BEGIN:VEVENT
UID:6152a91f21ef3
DTSTART;VALUE=DATE:20220202
SEQUENCE:0
TRANSP:OPAQUE
DTEND;VALUE=DATE:20220203
SUMMARY:Silence ! On raconte... Atelier d'initiation au mime
CLASS:PUBLIC
DESCRIPTION:15:30 – 17:00. À MEMO.… - https://www.ville-fribourg.ch/d
 e/agenda/silence-on-raconte-atelier-dinitiation-au-mime
X-MICROSOFT-CDO-ALLDAYEVENT:TRUE
DTSTAMP:20210928T053319Z
END:VEVENT
BEGIN:VEVENT
UID:6152a91f2262e
DTSTART;VALUE=DATE:20220204
SEQUENCE:0
TRANSP:OPAQUE
DTEND;VALUE=DATE:20220205
SUMMARY:Ateliers d'éveil 
CLASS:PUBLIC
DESCRIPTION:Vendredi 8 octobre et vendredi 5 novembre : éveil à la langue
  des signes française (LSF)  - 9:30 – 10:30.… - https://www.ville-fr
 ibourg.ch/de/agenda/ateliers-deveil
X-MICROSOFT-CDO-ALLDAYEVENT:TRUE
DTSTAMP:20210928T053319Z
END:VEVENT
BEGIN:VEVENT
UID:6152a91f22b2d
DTSTART;VALUE=DATE:20211004
SEQUENCE:0
TRANSP:OPAQUE
DTEND;VALUE=DATE:20220208
SUMMARY:Cafés (grand-) parents-enfants / Kaffee (Gross-) Eltern - Kinder 
CLASS:PUBLIC
DESCRIPTION:15:30 – 17:00. À MEMO.… - https://www.ville-fribourg.ch/de
 /agenda/cafes-grand-parents-enfants-kaffee-gross-eltern-kinder
X-MICROSOFT-CDO-ALLDAYEVENT:TRUE
DTSTAMP:20210928T053319Z
END:VEVENT
BEGIN:VEVENT
UID:6152a91f22f35
DTSTART;VALUE=DATE:20211004
SEQUENCE:0
TRANSP:OPAQUE
DTEND;VALUE=DATE:20220208
SUMMARY:Cafés (grand-) parents-enfants / Kaffee (Gross-) Eltern - Kinder 
CLASS:PUBLIC
DESCRIPTION:15:30 – 17:00. À MEMO.… - https://www.ville-fribourg.ch/de
 /agenda/cafes-grand-parents-enfants-kaffee-gross-eltern-kinder
X-MICROSOFT-CDO-ALLDAYEVENT:TRUE
DTSTAMP:20210928T053319Z
END:VEVENT
BEGIN:VEVENT
UID:6152a91f2334e
DTSTART;VALUE=DATE:20220209
SEQUENCE:0
TRANSP:OPAQUE
DTEND;VALUE=DATE:20220210
SUMMARY:Un lapin dans mon chapeau ? Initiation à la magie / Einführung in
  die Magie
CLASS:PUBLIC
DESCRIPTION:16:30 – 18:30. À MEMO. - De 6 à 12 ans\, sur inscription pa
 r courriel à memo [at] ville-fr.ch - C’est magique !… - https://www.v
 ille-fribourg.ch/de/agenda/un-lapin-dans-mon-chapeau-initiation-a-la-magie
 -einfuhrung-in-die-magie
X-MICROSOFT-CDO-ALLDAYEVENT:TRUE
DTSTAMP:20210928T053319Z
END:VEVENT
BEGIN:VEVENT
UID:6152a91f23a32
DTSTART;VALUE=DATE:20220218
SEQUENCE:0
TRANSP:OPAQUE
DTEND;VALUE=DATE:20220219
SUMMARY:Contes de Caroline
CLASS:PUBLIC
DESCRIPTION:16:30 – 17:15. À MEMO. Dès 4 ans.… - https://www.ville-fr
 ibourg.ch/de/agenda/contes-de-caroline-0
X-MICROSOFT-CDO-ALLDAYEVENT:TRUE
DTSTAMP:20210928T053319Z
END:VEVENT
BEGIN:VEVENT
UID:6152a91f23e29
DTSTART;VALUE=DATE:20220221
SEQUENCE:0
TRANSP:OPAQUE
DTEND;VALUE=DATE:20220222
SUMMARY:Sitzung vom 21.02.2022 - Generalrat
CLASS:PUBLIC
DESCRIPTION:Das Büro des Generalrates der Stadt Freiburg wird die Mitglied
 er des Generalrates mit persönlichem Schreiben zur ordentlichen Sitzung v
 om Mo… - https://www.ville-fribourg.ch/de/agenda/sitzung-vom-21-02-2022-
 generalrat
X-MICROSOFT-CDO-ALLDAYEVENT:TRUE
DTSTAMP:20210928T053319Z
END:VEVENT
BEGIN:VEVENT
UID:6152a91f2444b
DTSTART;VALUE=DATE:20220222
SEQUENCE:0
TRANSP:OPAQUE
DTEND;VALUE=DATE:20220223
SUMMARY:Né pour lire / Buchstart
CLASS:PUBLIC
DESCRIPTION:- Vendredi 15 octobre\, jeudi 18 novembre\, vendredi 28 janvier
 \, 9:30 - 11:00 - Mardi 7 décembre\, mardi 22 février\, 15:30 - 17:00  
 -  - À ME… - https://www.ville-fribourg.ch/de/agenda/ne-pour-lire-buch
 start-0
X-MICROSOFT-CDO-ALLDAYEVENT:TRUE
DTSTAMP:20210928T053319Z
END:VEVENT
BEGIN:VEVENT
UID:6152a91f24bce
DTSTART;VALUE=DATE:20220223
SEQUENCE:0
TRANSP:OPAQUE
DTEND;VALUE=DATE:20220224
SUMMARY:L’impro’ fait son numéro – Initiation à l’improvisation t
 héâtrale
CLASS:PUBLIC
DESCRIPTION:18:00 - 19:30. À MEMO.… - https://www.ville-fribourg.ch/de/a
 genda/limpro-fait-son-numero-initiation-a-limprovisation-theatrale
X-MICROSOFT-CDO-ALLDAYEVENT:TRUE
DTSTAMP:20210928T053319Z
END:VEVENT
BEGIN:VEVENT
UID:6152a91f252ec
DTSTART;VALUE=DATE:20220225
SEQUENCE:0
TRANSP:OPAQUE
DTEND;VALUE=DATE:20220226
SUMMARY:Kulturtag
CLASS:PUBLIC
DESCRIPTION:Seit 2018 organisiert das Kulturamt jedes Jahr einen Kulturtag
 .… - https://www.ville-fribourg.ch/de/agenda/kulturtag
X-MICROSOFT-CDO-ALLDAYEVENT:TRUE
DTSTAMP:20210928T053319Z
END:VEVENT
BEGIN:VEVENT
UID:6152a91f25952
DTSTART;VALUE=DATE:20220226
SEQUENCE:0
TRANSP:OPAQUE
DTEND;VALUE=DATE:20220227
SUMMARY:Geschichten auf Bolz
CLASS:PUBLIC
DESCRIPTION:10:00 – 10:45 Uhr. In MEMO\, ab 4 Jahren.… - https://www.vi
 lle-fribourg.ch/de/agenda/geschichten-auf-bolz
X-MICROSOFT-CDO-ALLDAYEVENT:TRUE
DTSTAMP:20210928T053319Z
END:VEVENT
BEGIN:VEVENT
UID:6152a91f2601c
DTSTART;VALUE=DATE:20220302
SEQUENCE:0
TRANSP:OPAQUE
DTEND;VALUE=DATE:20220303
SUMMARY:Contes en deux langues et marionnettes
CLASS:PUBLIC
DESCRIPTION:15:00 - 16:00. Au https://www.marionnette.ch/\">Musée suisse d
 e la Marionnette.… - https://www.ville-fribourg.ch/de/agenda/contes-en-d
 eux-langues-et-marionnettes
X-MICROSOFT-CDO-ALLDAYEVENT:TRUE
DTSTAMP:20210928T053319Z
END:VEVENT
BEGIN:VEVENT
UID:6152a91f26490
DTSTART;VALUE=DATE:20220404
SEQUENCE:0
TRANSP:OPAQUE
DTEND;VALUE=DATE:20220405
SUMMARY:Sitzung vom 4. April 2022 - Generalrat
CLASS:PUBLIC
DESCRIPTION:Das Büro des Generalrates der Stadt Freiburg wird die Mitglied
 er des Generalrates mit persönlichem Schreiben zur ordentlichen Sitzung v
 om Mo… - https://www.ville-fribourg.ch/de/agenda/sitzung-vom-4-april-202
 2-generalrat
X-MICROSOFT-CDO-ALLDAYEVENT:TRUE
DTSTAMP:20210928T053319Z
END:VEVENT
BEGIN:VEVENT
UID:6152a91f26a5d
DTSTART;VALUE=DATE:20220530
SEQUENCE:0
TRANSP:OPAQUE
DTEND;VALUE=DATE:20220531
SUMMARY:Sitzung vom 30. Mai 2022 - Generalrat
CLASS:PUBLIC
DESCRIPTION:Das Büro des Generalrates der Stadt Freiburg wird die Mitglied
 er des Generalrates mit persönlichem Schreiben zur ordentlichen Sitzung v
 om Mo… - https://www.ville-fribourg.ch/de/agenda/sitzung-vom-30-mai-2022
 -generalrat
X-MICROSOFT-CDO-ALLDAYEVENT:TRUE
DTSTAMP:20210928T053319Z
END:VEVENT
BEGIN:VEVENT
UID:6152a91f2707e
DTSTART;VALUE=DATE:20220628
SEQUENCE:0
TRANSP:OPAQUE
DTEND;VALUE=DATE:20220629
SUMMARY:Sitzung vom 28. Juni 2022 - Generalrat
CLASS:PUBLIC
DESCRIPTION:Das Büro des Generalrates der Stadt Freiburg wird die Mitglied
 er des Generalrates mit persönlichem Schreiben zur ordentlichen Sitzung v
 om Di… - https://www.ville-fribourg.ch/de/agenda/sitzung-vom-28-juni-202
 2-generalrat
X-MICROSOFT-CDO-ALLDAYEVENT:TRUE
DTSTAMP:20210928T053319Z
END:VEVENT
BEGIN:VEVENT
UID:6152a91f27678
DTSTART;VALUE=DATE:20220903
SEQUENCE:0
TRANSP:OPAQUE
DTEND;VALUE=DATE:20220905
SUMMARY:Die Schubertiade\, 21. Auslage in Freiburg
CLASS:PUBLIC
DESCRIPTION:Espace 2. Am 3. und 4. September 2022 erklingt in Freiburg die
  Schubertiade von Espace 2 in den schönsten Tönen.… - https://www.vill
 e-fribourg.ch/de/agenda/die-schubertiade-21-auslage-in-freiburg
X-MICROSOFT-CDO-ALLDAYEVENT:TRUE
DTSTAMP:20210928T053319Z
END:VEVENT
BEGIN:VEVENT
UID:6152a91f27ce2
DTSTART;VALUE=DATE:20220913
SEQUENCE:0
TRANSP:OPAQUE
DTEND;VALUE=DATE:20220914
SUMMARY:Sitzung vom 13. September 2022 - Generalrat
CLASS:PUBLIC
DESCRIPTION:Das Büro des Generalrates der Stadt Freiburg wird die Mitglied
 er des Generalrates mit persönlichem Schreiben zur ordentlichen Sitzung v
 om Di… - https://www.ville-fribourg.ch/de/agenda/sitzung-vom-13-septembe
 r-2022-generalrat
X-MICROSOFT-CDO-ALLDAYEVENT:TRUE
DTSTAMP:20210928T053319Z
END:VEVENT
BEGIN:VEVENT
UID:6152a91f2830f
DTSTART;VALUE=DATE:20221010
SEQUENCE:0
TRANSP:OPAQUE
DTEND;VALUE=DATE:20221011
SUMMARY:Sitzung vom 10. Oktober 2022 - Generalrat
CLASS:PUBLIC
DESCRIPTION:Das Büro des Generalrates der Stadt Freiburg wird die Mitglied
 er des Generalrates mit persönlichem Schreiben zur ordentlichen Sitzung v
 om Mo… - https://www.ville-fribourg.ch/de/agenda/sitzung-vom-10-oktober-
 2022-generalrat
X-MICROSOFT-CDO-ALLDAYEVENT:TRUE
DTSTAMP:20210928T053319Z
END:VEVENT
BEGIN:VEVENT
UID:6152a91f28921
DTSTART;VALUE=DATE:20221219
SEQUENCE:0
TRANSP:OPAQUE
DTEND;VALUE=DATE:20221220
SUMMARY:Sitzung vom 19. Dezember 2022 - Generalrat
CLASS:PUBLIC
DESCRIPTION:Das Büro des Generalrates der Stadt Freiburg wird die Mitglied
 er des Generalrates mit persönlichem Schreiben zur ordentlichen Sitzung v
 om Mo… - https://www.ville-fribourg.ch/de/agenda/sitzung-vom-19-dezember
 -2022-generalrat
X-MICROSOFT-CDO-ALLDAYEVENT:TRUE
DTSTAMP:20210928T053319Z
END:VEVENT
END:VCALENDAR